BEGIN:VCALENDAR
VERSION:2.0
PRODID:-//Yenice Kültür ve Dayanışma Derneği - ECPv5.14.1//NONSGML v1.0//EN
CALSCALE:GREGORIAN
METHOD:PUBLISH
X-WR-CALNAME:Yenice Kültür ve Dayanışma Derneği
X-ORIGINAL-URL:https://www.yenicedernegi.com
X-WR-CALDESC:Yenice Kültür ve Dayanışma Derneği için etkinlikler
BEGIN:VTIMEZONE
TZID:Europe/Istanbul
BEGIN:STANDARD
TZOFFSETFROM:+0300
TZOFFSETTO:+0300
TZNAME:+03
DTSTART:20181231T210000
END:STANDARD
END:VTIMEZONE
BEGIN:VEVENT
DTSTART;TZID=Europe/Istanbul:20191016T050000
DTEND;TZID=Europe/Istanbul:20191016T140000
DTSTAMP:20260423T151937
CREATED:20191016T101114Z
LAST-MODIFIED:20191016T101114Z
UID:4338-1571202000-1571234400@www.yenicedernegi.com
SUMMARY:Aslı GERÇEK & Rıza AKPINAR KINA MERASİMİ (DETAYLI BİLGİ İÇİN TIKLAYINIZ)
DESCRIPTION:
URL:https://www.yenicedernegi.com/etkinlik-takvimi/asli-gercek-riza-akpinar-kina-merasimi-detayli-bilgi-icin-tiklayiniz/
LOCATION:NEMTAŞ DÜĞÜN SALONU\, HAVAALANI MAHALLESİ GAZİPAŞA SOKAK NO:24/A ESENLER\, ISTANBUL ESENLER\, 34230\, Türkiye
END:VEVENT
END:VCALENDAR