BEGIN:VCALENDAR
VERSION:2.0
PRODID:-//Yenice Kültür ve Dayanışma Derneği - ECPv5.14.1//NONSGML v1.0//EN
CALSCALE:GREGORIAN
METHOD:PUBLISH
X-WR-CALNAME:Yenice Kültür ve Dayanışma Derneği
X-ORIGINAL-URL:https://www.yenicedernegi.com
X-WR-CALDESC:Yenice Kültür ve Dayanışma Derneği için etkinlikler
BEGIN:VTIMEZONE
TZID:Europe/Istanbul
BEGIN:STANDARD
TZOFFSETFROM:+0300
TZOFFSETTO:+0300
TZNAME:+03
DTSTART:20181231T210000
END:STANDARD
END:VTIMEZONE
BEGIN:VEVENT
DTSTART;TZID=Europe/Istanbul:20190919T160000
DTEND;TZID=Europe/Istanbul:20190919T200000
DTSTAMP:20260424T041559
CREATED:20190910T164139Z
LAST-MODIFIED:20190910T164139Z
UID:3163-1568908800-1568923200@www.yenicedernegi.com
SUMMARY:ASLI&MEHMET KINA ORGANİZASYONU(DETAYLI BİLGİ İÇİN LÜTFEN TIKLAYINIZ)
DESCRIPTION:
URL:https://www.yenicedernegi.com/etkinlik-takvimi/aslimehmet-kina-organizasyonudetayli-bilgi-icin-lutfen-tiklayiniz/
LOCATION:HANEDAN DÜĞÜN SALONU\, EMNİYET TEPE MAHALLESİ KAZIMKARABEKİR CADDESİ SİLAHTAR/ALİBEYKÖY\, Türkiye
END:VEVENT
END:VCALENDAR