BEGIN:VCALENDAR
VERSION:2.0
PRODID:-//Yenice Kültür ve Dayanışma Derneği - ECPv5.14.1//NONSGML v1.0//EN
CALSCALE:GREGORIAN
METHOD:PUBLISH
X-WR-CALNAME:Yenice Kültür ve Dayanışma Derneği
X-ORIGINAL-URL:https://www.yenicedernegi.com
X-WR-CALDESC:Yenice Kültür ve Dayanışma Derneği için etkinlikler
BEGIN:VTIMEZONE
TZID:Europe/Istanbul
BEGIN:STANDARD
TZOFFSETFROM:+0300
TZOFFSETTO:+0300
TZNAME:+03
DTSTART:20181231T210000
END:STANDARD
END:VTIMEZONE
BEGIN:VEVENT
DTSTART;TZID=Europe/Istanbul:20191117T160000
DTEND;TZID=Europe/Istanbul:20191117T200000
DTSTAMP:20260424T010822
CREATED:20191112T073503Z
LAST-MODIFIED:20191112T074225Z
UID:7734-1574006400-1574020800@www.yenicedernegi.com
SUMMARY:Ayşe HACIOĞLU & Özkan BARDAKÇI DÜĞÜN MERASİMİ(DETAYLI BİLGİ İÇİN TIKLAYINIZ)
DESCRIPTION:Merhum Tonbulgilin Hacı’nin kızı Ayşe ile Abdullah Bardakçı’nın oğlu Özkan’ın düğün merasimine davetlisiniz.\nÇiftlerimize Mutluluklar Dileriz.
URL:https://www.yenicedernegi.com/etkinlik-takvimi/ayse-hacioglu-ozkan-bardakci-dugun-merasimiderayli-bilgi-icin-tiklayiniz/
LOCATION:ESENLER KÜLTÜR MERKEZİ\, TUNA MAHALLESİ MAHMUTBEY CADDESİ NO:3 ESENLER İSTANBUL\, ISTANBUL ESENLER\, 34230\, Türkiye
END:VEVENT
END:VCALENDAR