BEGIN:VCALENDAR
VERSION:2.0
PRODID:-//Yenice Kültür ve Dayanışma Derneği - ECPv5.14.1//NONSGML v1.0//EN
CALSCALE:GREGORIAN
METHOD:PUBLISH
X-WR-CALNAME:Yenice Kültür ve Dayanışma Derneği
X-ORIGINAL-URL:https://www.yenicedernegi.com
X-WR-CALDESC:Yenice Kültür ve Dayanışma Derneği için etkinlikler
BEGIN:VTIMEZONE
TZID:Europe/Istanbul
BEGIN:STANDARD
TZOFFSETFROM:+0300
TZOFFSETTO:+0300
TZNAME:+03
DTSTART:20181231T210000
END:STANDARD
END:VTIMEZONE
BEGIN:VEVENT
DTSTART;TZID=Europe/Istanbul:20191114T160000
DTEND;TZID=Europe/Istanbul:20191114T200000
DTSTAMP:20260423T200846
CREATED:20191112T074101Z
LAST-MODIFIED:20191112T074101Z
UID:7738-1573747200-1573761600@www.yenicedernegi.com
SUMMARY:Ayşe HACIOĞLU & Özkan BARDAKÇI KINA MERASİMİ(DETAYLI BİLGİ İÇİN TIKLAYINIZ)
DESCRIPTION:Merhum Tonbulgilin Hacı’nin kızı Ayşe ile Abdullah Bardakçı’nın oğlu Özkan’ın kına merasimine davetlisiniz.\nÇiftlerimize Mutluluklar Dileriz.\n\n 
URL:https://www.yenicedernegi.com/etkinlik-takvimi/ayse-hacioglu-ozkan-bardakci-kina-merasimidetayli-bilgi-icin-tiklayiniz/
LOCATION:turkuaz düğün salonu\, Tuna mahallesi mahmutbey caddesi no:29 esenler\, İstanbul\, Türkiye
END:VEVENT
END:VCALENDAR