BEGIN:VCALENDAR
VERSION:2.0
PRODID:-//Yenice Kültür ve Dayanışma Derneği - ECPv5.14.1//NONSGML v1.0//EN
CALSCALE:GREGORIAN
METHOD:PUBLISH
X-WR-CALNAME:Yenice Kültür ve Dayanışma Derneği
X-ORIGINAL-URL:https://www.yenicedernegi.com
X-WR-CALDESC:Yenice Kültür ve Dayanışma Derneği için etkinlikler
BEGIN:VTIMEZONE
TZID:Europe/Istanbul
BEGIN:STANDARD
TZOFFSETFROM:+0300
TZOFFSETTO:+0300
TZNAME:+03
DTSTART:20181231T210000
END:STANDARD
END:VTIMEZONE
BEGIN:VEVENT
DTSTART;TZID=Europe/Istanbul:20191101T160000
DTEND;TZID=Europe/Istanbul:20191101T200000
DTSTAMP:20260422T115528
CREATED:20191028T065956Z
LAST-MODIFIED:20191028T065956Z
UID:4733-1572624000-1572638400@www.yenicedernegi.com
SUMMARY:Beyzanur ÖZTÜRK & Ahmet Talha AKSOY KINA MERASİMİ(DETAYLI BİLGİ İÇİN TIKLAYINIZ)
DESCRIPTION:
URL:https://www.yenicedernegi.com/etkinlik-takvimi/beyzanur-ozturk-ahmet-talha-aksoy-kina-merasimidetayli-bilgi-icin-tiklayiniz/
LOCATION:ÇINAR DÜĞÜN SALONU\, bağdat caddesi orhantepe mahallesi girne sokak no:15 kartal\, istanbul\, Türkiye
END:VEVENT
END:VCALENDAR