BEGIN:VCALENDAR
VERSION:2.0
PRODID:-//Yenice Kültür ve Dayanışma Derneği - ECPv5.14.1//NONSGML v1.0//EN
CALSCALE:GREGORIAN
METHOD:PUBLISH
X-WR-CALNAME:Yenice Kültür ve Dayanışma Derneği
X-ORIGINAL-URL:https://www.yenicedernegi.com
X-WR-CALDESC:Yenice Kültür ve Dayanışma Derneği için etkinlikler
BEGIN:VTIMEZONE
TZID:Europe/Istanbul
BEGIN:STANDARD
TZOFFSETFROM:+0300
TZOFFSETTO:+0300
TZNAME:+03
DTSTART:20181231T210000
END:STANDARD
END:VTIMEZONE
BEGIN:VEVENT
DTSTART;TZID=Europe/Istanbul:20191116T170000
DTEND;TZID=Europe/Istanbul:20191116T190000
DTSTAMP:20260423T215100
CREATED:20191112T074917Z
LAST-MODIFIED:20191112T074917Z
UID:7741-1573923600-1573930800@www.yenicedernegi.com
SUMMARY:Dilek GÜL & Emrah GERÇEK DÜĞÜN MERASİMİ (DETAYLI BİLGİ İÇİN TIKLAYINIZ)
DESCRIPTION: 
URL:https://www.yenicedernegi.com/etkinlik-takvimi/dilek-gul-emrah-gercek-dugun-merasimi-detayli-bilgi-icin-tiklayiniz/
LOCATION:Esenler Dörtyol Halil İbrahim Vakfı\, Esenler Dörtyol Halil İbrahim Vakfı\, İstanbul\, Türkiye
END:VEVENT
END:VCALENDAR