BEGIN:VCALENDAR
VERSION:2.0
PRODID:-//Yenice Kültür ve Dayanışma Derneği - ECPv5.14.1//NONSGML v1.0//EN
CALSCALE:GREGORIAN
METHOD:PUBLISH
X-WR-CALNAME:Yenice Kültür ve Dayanışma Derneği
X-ORIGINAL-URL:https://www.yenicedernegi.com
X-WR-CALDESC:Yenice Kültür ve Dayanışma Derneği için etkinlikler
BEGIN:VTIMEZONE
TZID:Europe/Istanbul
BEGIN:STANDARD
TZOFFSETFROM:+0300
TZOFFSETTO:+0300
TZNAME:+03
DTSTART:20181231T210000
END:STANDARD
END:VTIMEZONE
BEGIN:VEVENT
DTSTART;TZID=Europe/Istanbul:20191113T160000
DTEND;TZID=Europe/Istanbul:20191113T200000
DTSTAMP:20260423T182631
CREATED:20191112T074842Z
LAST-MODIFIED:20191112T074842Z
UID:7742-1573660800-1573675200@www.yenicedernegi.com
SUMMARY:Dilek GÜL & Emrah GERÇEK KINA MERASİMİ (DETAYLI BİLGİ İÇİN TIKLAYINIZ)
DESCRIPTION:
URL:https://www.yenicedernegi.com/etkinlik-takvimi/dilek-gul-emrah-gercek-kina-merasimi-detayli-bilgi-icin-tiklayiniz/
LOCATION:SALON GÖNÜL\, karadeniz mahallesi general aldoğan caddesi 1114 sokak beşyüzevler gaziosmanpaşa\, istanbul\, Türkiye
END:VEVENT
END:VCALENDAR