BEGIN:VCALENDAR
VERSION:2.0
PRODID:-//Yenice Kültür ve Dayanışma Derneği - ECPv5.14.1//NONSGML v1.0//EN
CALSCALE:GREGORIAN
METHOD:PUBLISH
X-WR-CALNAME:Yenice Kültür ve Dayanışma Derneği
X-ORIGINAL-URL:https://www.yenicedernegi.com
X-WR-CALDESC:Yenice Kültür ve Dayanışma Derneği için etkinlikler
BEGIN:VTIMEZONE
TZID:Europe/Istanbul
BEGIN:STANDARD
TZOFFSETFROM:+0300
TZOFFSETTO:+0300
TZNAME:+03
DTSTART:20181231T210000
END:STANDARD
END:VTIMEZONE
BEGIN:VEVENT
DTSTART;TZID=Europe/Istanbul:20190925T160000
DTEND;TZID=Europe/Istanbul:20190925T200000
DTSTAMP:20260424T024452
CREATED:20190924T152938Z
LAST-MODIFIED:20190924T152938Z
UID:3610-1569427200-1569441600@www.yenicedernegi.com
SUMMARY:Enes Ahmet GÜVEN & Beyza KÜÇÜK KINA MERASİMİ (DETAYLI BİLGİ İÇİN TIKLAYINIZ)
DESCRIPTION:Ahmet Guven’in Torunu Merhum Emrah Guven’in oglu Enes Ahmet ile Murat Kucuk’un Kizi Beyza’nin KINA Merasimine davetlisiniz.\nCiftlerimize Mutluluklar Dileriz. \nKina: 25 Eylul Carsamba Saat:19.00-23.00\nAdnan Kahveci mh. Yavuz Sultan Selim bulv. paradise carsi kat:5 Beylikduzu\nMapimba Balo Davet Salonu
URL:https://www.yenicedernegi.com/etkinlik-takvimi/enes-ahmet-guven-beyza-kucuk-kina-merasimi-detayli-bilgi-icin-tiklayiniz/
LOCATION:MAPİMBA BALO DAVET\, Adnan Kahveci mh. Yavuz Sultan Selim bulv. paradise carsi kat:5 Beylikduzu\, İSTANBUL
END:VEVENT
END:VCALENDAR