BEGIN:VCALENDAR
VERSION:2.0
PRODID:-//Yenice Kültür ve Dayanışma Derneği - ECPv5.14.1//NONSGML v1.0//EN
CALSCALE:GREGORIAN
METHOD:PUBLISH
X-WR-CALNAME:Yenice Kültür ve Dayanışma Derneği
X-ORIGINAL-URL:https://www.yenicedernegi.com
X-WR-CALDESC:Yenice Kültür ve Dayanışma Derneği için etkinlikler
BEGIN:VTIMEZONE
TZID:Europe/Istanbul
BEGIN:STANDARD
TZOFFSETFROM:+0300
TZOFFSETTO:+0300
TZNAME:+03
DTSTART:20181231T210000
END:STANDARD
END:VTIMEZONE
BEGIN:VEVENT
DTSTART;TZID=Europe/Istanbul:20190929T160000
DTEND;TZID=Europe/Istanbul:20190929T200000
DTSTAMP:20260423T201014
CREATED:20190924T152221Z
LAST-MODIFIED:20190924T152221Z
UID:3601-1569772800-1569787200@www.yenicedernegi.com
SUMMARY:Esra AKSOY & Emre Karaarslan DÜĞÜN MERASİMİ (DETAYLI BİLGİ İÇİN TIKLAYINIZ)
DESCRIPTION:Yahya Aksoy’un kizi Esra ile Ayhan Karaarslan’in oglu Emre’nin Dugun merasimine davetlisiniz.\nCiftlerimize Mutluluklar Dileriz. \nDugun: 29 Eylul Pazar 19.00-23.00\nKadir Akdogan Cd. Turkeri Is merkezi Avrupa Konutlari karsisi No:69/71 Kucukkoy-G.O.P\nAvrupa Gold Dugun Davet Salonu \nIlt:05326770519
URL:https://www.yenicedernegi.com/etkinlik-takvimi/esra-aksoy-emre-karaarslan-dugun-merasimi-detayli-bilgi-icin-tiklayiniz/
LOCATION:AVRUPA GOLD DÜĞÜN DAVET\, Kadir Akdogan Cd. Turkeri Is merkezi Avrupa Konutlari karsisi No:69/71 Kucukkoy\, İSTANBUL
END:VEVENT
END:VCALENDAR