BEGIN:VCALENDAR
VERSION:2.0
PRODID:-//Yenice Kültür ve Dayanışma Derneği - ECPv5.14.1//NONSGML v1.0//EN
CALSCALE:GREGORIAN
METHOD:PUBLISH
X-WR-CALNAME:Yenice Kültür ve Dayanışma Derneği
X-ORIGINAL-URL:https://www.yenicedernegi.com
X-WR-CALDESC:Yenice Kültür ve Dayanışma Derneği için etkinlikler
BEGIN:VTIMEZONE
TZID:Europe/Istanbul
BEGIN:STANDARD
TZOFFSETFROM:+0300
TZOFFSETTO:+0300
TZNAME:+03
DTSTART:20181231T210000
END:STANDARD
END:VTIMEZONE
BEGIN:VEVENT
DTSTART;TZID=Europe/Istanbul:20190929T160000
DTEND;TZID=Europe/Istanbul:20190929T200000
DTSTAMP:20260423T165817
CREATED:20190925T143257Z
LAST-MODIFIED:20190925T143257Z
UID:3644-1569772800-1569787200@www.yenicedernegi.com
SUMMARY:Hatice DURAS & Serhan KARADENİZLİ NİŞAN MERASİMİ( DETAYLI BİLGİ İÇİN LÜTFEN TIKLAYINIZ)
DESCRIPTION:
URL:https://www.yenicedernegi.com/etkinlik-takvimi/hatice-duras-serhan-karadenizli-nisan-merasimi-detayli-bilgi-icin-lutfen-tiklayiniz/
LOCATION:Yenice DERNEĞİ\, Namık Kemal Mahallesi\, Yenice Sk.\, 34220 Esenler/İstanbul\, istanbul\, 34220\, Türkiye
END:VEVENT
END:VCALENDAR