BEGIN:VCALENDAR
VERSION:2.0
PRODID:-//Yenice Kültür ve Dayanışma Derneği - ECPv5.14.1//NONSGML v1.0//EN
CALSCALE:GREGORIAN
METHOD:PUBLISH
X-WR-CALNAME:Yenice Kültür ve Dayanışma Derneği
X-ORIGINAL-URL:https://www.yenicedernegi.com
X-WR-CALDESC:Yenice Kültür ve Dayanışma Derneği için etkinlikler
BEGIN:VTIMEZONE
TZID:Europe/Istanbul
BEGIN:STANDARD
TZOFFSETFROM:+0300
TZOFFSETTO:+0300
TZNAME:+03
DTSTART:20181231T210000
END:STANDARD
END:VTIMEZONE
BEGIN:VEVENT
DTSTART;TZID=Europe/Istanbul:20191004T150000
DTEND;TZID=Europe/Istanbul:20191004T200000
DTSTAMP:20260423T134149
CREATED:20190910T162927Z
LAST-MODIFIED:20190910T162927Z
UID:3155-1570201200-1570219200@www.yenicedernegi.com
SUMMARY:İSMAİL HIŞT KINA ORGANİZASYONU(DETAYLI BİLGİ İÇİN TIKLAYINIZ)
DESCRIPTION:4 EKİM 2019 CUMA GÜNÜ SAAT 18:00 DA BAŞLIYACAK OLAN KINA ORGANİZASYONUNA TÜM HALKIMIZ DAVETLİDİR. \nYİĞİTİM1 DÜĞĞÜN SALONU \nHAVAALANI MAHALLESİ FERMAN CADDESİ NO:8 ATIŞALANI/ESENLER/İSTANBUL İLETİŞİM 532 724 92 28
URL:https://www.yenicedernegi.com/etkinlik-takvimi/ismail-hist-kina-organizasyonudetayli-bilgi-icin-tiklayiniz/
LOCATION:YİĞİTİM1\, HAVAALANI MAHALLESİ FERMAN CADDESİ NO:8 ATIŞALANI/ESENLER\, İSTANBUL\, Türkiye
END:VEVENT
END:VCALENDAR