BEGIN:VCALENDAR
VERSION:2.0
PRODID:-//Yenice Kültür ve Dayanışma Derneği - ECPv5.14.1//NONSGML v1.0//EN
CALSCALE:GREGORIAN
METHOD:PUBLISH
X-WR-CALNAME:Yenice Kültür ve Dayanışma Derneği
X-ORIGINAL-URL:https://www.yenicedernegi.com
X-WR-CALDESC:Yenice Kültür ve Dayanışma Derneği için etkinlikler
BEGIN:VTIMEZONE
TZID:Europe/Istanbul
BEGIN:STANDARD
TZOFFSETFROM:+0300
TZOFFSETTO:+0300
TZNAME:+03
DTSTART:20181231T210000
END:STANDARD
END:VTIMEZONE
BEGIN:VEVENT
DTSTART;TZID=Europe/Istanbul:20190918T160000
DTEND;TZID=Europe/Istanbul:20190918T200000
DTSTAMP:20260424T055202
CREATED:20190914T144423Z
LAST-MODIFIED:20190914T144423Z
UID:3286-1568822400-1568836800@www.yenicedernegi.com
SUMMARY:NEŞE SUDA & EMRAH COŞKUN(KINA ORGANIZASYONU)
DESCRIPTION:
URL:https://www.yenicedernegi.com/etkinlik-takvimi/nese-suda-emrah-coskunkina-organizasyonu/
LOCATION:hanzade düğün sarayi\, Osman gazi mahallesi mimar sinan caddesi no:50 sancaktepe\, İstanbul\, Türkiye
END:VEVENT
END:VCALENDAR