BEGIN:VCALENDAR
VERSION:2.0
PRODID:-//Yenice Kültür ve Dayanışma Derneği - ECPv5.14.1//NONSGML v1.0//EN
CALSCALE:GREGORIAN
METHOD:PUBLISH
X-WR-CALNAME:Yenice Kültür ve Dayanışma Derneği
X-ORIGINAL-URL:https://www.yenicedernegi.com
X-WR-CALDESC:Yenice Kültür ve Dayanışma Derneği için etkinlikler
BEGIN:VTIMEZONE
TZID:Europe/Istanbul
BEGIN:STANDARD
TZOFFSETFROM:+0300
TZOFFSETTO:+0300
TZNAME:+03
DTSTART:20181231T210000
END:STANDARD
END:VTIMEZONE
BEGIN:VEVENT
DTSTART;TZID=Europe/Istanbul:20190926T160000
DTEND;TZID=Europe/Istanbul:20190926T200000
DTSTAMP:20260424T010226
CREATED:20190917T113400Z
LAST-MODIFIED:20190917T113400Z
UID:3374-1569513600-1569528000@www.yenicedernegi.com
SUMMARY:SABİRE SÖYLER & İSLAM AKGÜÇ (KINA ORGANİZASYONU)DETAYLI BİLGİ İÇİN TIKLAYINIZ
DESCRIPTION:
URL:https://www.yenicedernegi.com/etkinlik-takvimi/sabire-soyler-islam-akguc-kina-organizasyonudetayli-bilgi-icin-tiklayiniz/
LOCATION:YILDIRIM DÜĞÜN SALONU\, yavuztürk mahallesi bosna bulvarı no:60 üsküdar\, istanbul\, Türkiye
END:VEVENT
END:VCALENDAR