BEGIN:VCALENDAR
VERSION:2.0
PRODID:-//Yenice Kültür ve Dayanışma Derneği - ECPv5.14.1//NONSGML v1.0//EN
CALSCALE:GREGORIAN
METHOD:PUBLISH
X-WR-CALNAME:Yenice Kültür ve Dayanışma Derneği
X-ORIGINAL-URL:https://www.yenicedernegi.com
X-WR-CALDESC:Yenice Kültür ve Dayanışma Derneği için etkinlikler
BEGIN:VTIMEZONE
TZID:Europe/Istanbul
BEGIN:STANDARD
TZOFFSETFROM:+0300
TZOFFSETTO:+0300
TZNAME:+03
DTSTART:20181231T210000
END:STANDARD
END:VTIMEZONE
BEGIN:VEVENT
DTSTART;TZID=Europe/Istanbul:20191103T113000
DTEND;TZID=Europe/Istanbul:20191103T123000
DTSTAMP:20260423T133619
CREATED:20190919T152043Z
LAST-MODIFIED:20191102T092802Z
UID:3447-1572780600-1572784200@www.yenicedernegi.com
SUMMARY:SEVİLAY KUTAS & SİNAN SATILMIŞ DÜĞÜN ORGANİZASYONU(DETAYLI BİLGİ İÇİN TIKLAYINIZ)
DESCRIPTION:
URL:https://www.yenicedernegi.com/etkinlik-takvimi/sevilay-kutas-sinan-satilmis-dugun-organizasyonudetayli-bilgi-icin-tiklayiniz/
LOCATION:ESENLER NİKAH SALONU\, TUNA MAHALLESİ MAHMUTBEY CADDESİ NO:33\, İSTANBUL
END:VEVENT
END:VCALENDAR