BEGIN:VCALENDAR
VERSION:2.0
PRODID:-//Yenice Kültür ve Dayanışma Derneği - ECPv5.14.1//NONSGML v1.0//EN
CALSCALE:GREGORIAN
METHOD:PUBLISH
X-WR-CALNAME:Yenice Kültür ve Dayanışma Derneği
X-ORIGINAL-URL:https://www.yenicedernegi.com
X-WR-CALDESC:Yenice Kültür ve Dayanışma Derneği için etkinlikler
BEGIN:VTIMEZONE
TZID:Europe/Istanbul
BEGIN:STANDARD
TZOFFSETFROM:+0300
TZOFFSETTO:+0300
TZNAME:+03
DTSTART:20181231T210000
END:STANDARD
END:VTIMEZONE
BEGIN:VEVENT
DTSTART;TZID=Europe/Istanbul:20191006T090000
DTEND;TZID=Europe/Istanbul:20191006T140000
DTSTAMP:20260423T120220
CREATED:20190910T164943Z
LAST-MODIFIED:20190910T174840Z
UID:3170-1570352400-1570370400@www.yenicedernegi.com
SUMMARY:YASEMİN&TUĞRUL DÜĞÜN ORGANİZASYONU(DETAYLI BİLGİ İÇİN TIKLAYINIZ)
DESCRIPTION:
URL:https://www.yenicedernegi.com/etkinlik-takvimi/yasemintugrul-kina-organizasyonudetayli-bilgi-icin-tiklayiniz-2/
LOCATION:ÜSKÜDAR EVLENDİRME DAİRESİ\, MİMARSİNAN ÇAVUŞDERE CADDESİ NO:35 ÜSKÜDAR\, İSTANBUL\, Türkiye
END:VEVENT
END:VCALENDAR